BEGIN:VCALENDAR
VERSION:2.0
PRODID:-//wp-events-plugin.com//7.2.2.1//EN
BEGIN:VEVENT
UID:112@deaf-interpreter.com
DTSTART;TZID=America/Chicago:20240914T130000
DTEND;TZID=America/Chicago:20240914T150000
DTSTAMP:20240910T182949Z
URL:https://deaf-interpreter.com/events/sept-american-sign-language-thousa
 nd-oaks/
SUMMARY:September American Sign Language @ Thousand Oaks
DESCRIPTION:
CATEGORIES:Deaf Events
LOCATION:Thousand Oaks Public Library\, 4618 Thousand Oaks\, San Antonio\, 
 Texas\, 78233\, Bexar\, United States
X-APPLE-STRUCTURED-LOCATION;VALUE=URI;X-ADDRESS=4618 Thousand Oaks\, San An
 tonio\, Texas\, 78233\, Bexar\, United States;X-APPLE-RADIUS=100;X-TITLE=T
 housand Oaks Public Library:geo:0,0
END:VEVENT
BEGIN:VTIMEZONE
TZID:America/Chicago
X-LIC-LOCATION:America/Chicago
BEGIN:DAYLIGHT
DTSTART:20240310T030000
TZOFFSETFROM:-0600
TZOFFSETTO:-0500
TZNAME:CDT
END:DAYLIGHT
END:VTIMEZONE
END:VCALENDAR