BEGIN:VCALENDAR
VERSION:2.0
PRODID:-//wp-events-plugin.com//7.2.2.1//EN
BEGIN:VEVENT
UID:104@deaf-interpreter.com
DTSTART;TZID=America/Chicago:20241019T193000
DTEND;TZID=America/Chicago:20241019T230000
DTSTAMP:20240904T132921Z
URL:https://deaf-interpreter.com/events/sac-asl-club-san-antonio-football-
 club-safc/
SUMMARY:SAC ASL Club @ San Antonio Football Club (SAFC)
DESCRIPTION:TICKET PURCHASE DEADLINE 9/19/2024\n\nDon't miss your chance to
  see San Antonio FC in action! Join the SA College ASL Glee Club for a pre
 -game performance of the National Anthem before the thrilling match agains
 t Louisville FC on October 19th at 7:30pm. Enjoy the game at Toyota Field.
 \n\nDEADLINE TO PURCHASE TICKETS IS ON SEPTEMBER 19\, 2024!\n\nThe event a
 nd ticket information can be viewed at this page.
CATEGORIES:Deaf Events
LOCATION:Toyota Field\, 5106 David Edwards Dr\, San Antonio\, Texas\, 78233
 \, United States
X-APPLE-STRUCTURED-LOCATION;VALUE=URI;X-ADDRESS=5106 David Edwards Dr\, San
  Antonio\, Texas\, 78233\, United States;X-APPLE-RADIUS=100;X-TITLE=Toyota
  Field:geo:0,0
END:VEVENT
BEGIN:VTIMEZONE
TZID:America/Chicago
X-LIC-LOCATION:America/Chicago
BEGIN:DAYLIGHT
DTSTART:20240310T030000
TZOFFSETFROM:-0600
TZOFFSETTO:-0500
TZNAME:CDT
END:DAYLIGHT
END:VTIMEZONE
END:VCALENDAR