BEGIN:VCALENDAR
VERSION:2.0
PRODID:-//wp-events-plugin.com//7.2.2.1//EN
BEGIN:VEVENT
UID:127@deaf-interpreter.com
DTSTART;TZID=America/Chicago:20241026T110000
DTEND;TZID=America/Chicago:20241026T130000
DTSTAMP:20241007T141300Z
URL:https://deaf-interpreter.com/events/october-american-sign-language-cen
 tral-library/
SUMMARY:October American Sign Language @ Central Library
DESCRIPTION:
CATEGORIES:Deaf Events
LOCATION:Central Library\, 600 Soledad St.\, San Antonio\, Texas\, 78205\, 
 United States
X-APPLE-STRUCTURED-LOCATION;VALUE=URI;X-ADDRESS=600 Soledad St.\, San Anton
 io\, Texas\, 78205\, United States;X-APPLE-RADIUS=100;X-TITLE=Central Libr
 ary:geo:0,0
END:VEVENT
BEGIN:VTIMEZONE
TZID:America/Chicago
X-LIC-LOCATION:America/Chicago
BEGIN:DAYLIGHT
DTSTART:20240310T030000
TZOFFSETFROM:-0600
TZOFFSETTO:-0500
TZNAME:CDT
END:DAYLIGHT
END:VTIMEZONE
END:VCALENDAR