BEGIN:VCALENDAR
VERSION:2.0
PRODID:-//wp-events-plugin.com//7.2.2.1//EN
BEGIN:VEVENT
UID:136@deaf-interpreter.com
DTSTART;TZID=America/Chicago:20241224T163000
DTEND;TZID=America/Chicago:20241224T173000
DTSTAMP:20241220T190054Z
URL:https://deaf-interpreter.com/events/deaf-catholic-christmas-vigil/
SUMMARY:Deaf Catholic Christmas Vigil
DESCRIPTION:Join the Deaf Catholics for a Christmas Vigil Mass at Our Lady 
 of Sorrows.
CATEGORIES:Deaf Events
LOCATION:Our Lady of Sorrows Catholic Church\, 3107 N. St Mary's St\,\, San
  Antonio\, Texas\, 78212\, Bexar\, United States
X-APPLE-STRUCTURED-LOCATION;VALUE=URI;X-ADDRESS=3107 N. St Mary's St\,\, Sa
 n Antonio\, Texas\, 78212\, Bexar\, United States;X-APPLE-RADIUS=100;X-TIT
 LE=Our Lady of Sorrows Catholic Church:geo:0,0
END:VEVENT
BEGIN:VTIMEZONE
TZID:America/Chicago
X-LIC-LOCATION:America/Chicago
BEGIN:STANDARD
DTSTART:20241103T010000
TZOFFSETFROM:-0500
TZOFFSETTO:-0600
TZNAME:CST
END:STANDARD
END:VTIMEZONE
END:VCALENDAR