BEGIN:VCALENDAR
VERSION:2.0
PRODID:-//wp-events-plugin.com//7.2.2.1//EN
BEGIN:VEVENT
UID:103@deaf-interpreter.com
DTSTART;TZID=America/Chicago:20240413T193000
DTEND;TZID=America/Chicago:20240413T223000
DTSTAMP:20240405T160532Z
URL:https://deaf-interpreter.com/events/asl-night-toyota-field-with-san-an
 tonio-fc/
SUMMARY:ASL Night @ Toyota Field with San Antonio FC
DESCRIPTION:
CATEGORIES:Deaf Events
END:VEVENT
BEGIN:VTIMEZONE
TZID:America/Chicago
X-LIC-LOCATION:America/Chicago
BEGIN:DAYLIGHT
DTSTART:20240310T030000
TZOFFSETFROM:-0600
TZOFFSETTO:-0500
TZNAME:CDT
END:DAYLIGHT
END:VTIMEZONE
END:VCALENDAR